BEGIN:VCALENDAR
VERSION:2.0
PRODID:-//Radarpag - ECPv5.2.1.1//NONSGML v1.0//EN
CALSCALE:GREGORIAN
METHOD:PUBLISH
X-WR-CALNAME:Radarpag
X-ORIGINAL-URL:https://teste-r2s2.tech/radarpag
X-WR-CALDESC:Eventos para Radarpag
BEGIN:VTIMEZONE
TZID:America/Sao_Paulo
BEGIN:STANDARD
TZOFFSETFROM:-0300
TZOFFSETTO:-0300
TZNAME:-03
DTSTART:20200101T000000
END:STANDARD
END:VTIMEZONE
BEGIN:VEVENT
DTSTART;TZID=America/Sao_Paulo:20201221T090000
DTEND;TZID=America/Sao_Paulo:20201221T090000
DTSTAMP:20260421T074005
CREATED:20201218T123751Z
LAST-MODIFIED:20201226T202201Z
UID:1107-1608541200-1608541200@teste-r2s2.tech
SUMMARY:A tecnologia do PIX como oportunidade de segurança e agilidade para o sistema financeiro
DESCRIPTION:
URL:https://teste-r2s2.tech/radarpag/evento/a-tecnologia-do-pix-como-oportunidade-de-seguranca-e-agilidade-para-o-sistema-financeiro/
LOCATION:Online\, Brazil
CATEGORIES:Destaques
END:VEVENT
END:VCALENDAR