BEGIN:VCALENDAR
VERSION:2.0
PRODID:-//Radarpag - ECPv5.2.1.1//NONSGML v1.0//EN
CALSCALE:GREGORIAN
METHOD:PUBLISH
X-WR-CALNAME:Radarpag
X-ORIGINAL-URL:https://teste-r2s2.tech/radarpag
X-WR-CALDESC:Eventos para Radarpag
BEGIN:VTIMEZONE
TZID:America/Sao_Paulo
BEGIN:STANDARD
TZOFFSETFROM:-0300
TZOFFSETTO:-0300
TZNAME:-03
DTSTART:20200101T000000
END:STANDARD
END:VTIMEZONE
BEGIN:VEVENT
DTSTART;TZID=America/Sao_Paulo:20201216T110000
DTEND;TZID=America/Sao_Paulo:20201216T120000
DTSTAMP:20260421T130508
CREATED:20201211T001700Z
LAST-MODIFIED:20201211T001700Z
UID:874-1608116400-1608120000@teste-r2s2.tech
SUMMARY:Guiabolso Cast: Como o Open Banking vai mudar o dia a dia das fintechs
DESCRIPTION:
URL:https://teste-r2s2.tech/radarpag/evento/guiabolso-cast-como-o-open-banking-vai-mudar-o-dia-a-dia-das-fintechs/
LOCATION:Online\, Brazil
CATEGORIES:Destaques
ATTACH;FMTTYPE=image/jpeg:https://teste-r2s2.tech/radarpag/wp-content/uploads/2020/12/guiabolso_161220.jpg
END:VEVENT
END:VCALENDAR