BEGIN:VCALENDAR
VERSION:2.0
PRODID:-//Radarpag - ECPv5.2.1.1//NONSGML v1.0//EN
CALSCALE:GREGORIAN
METHOD:PUBLISH
X-WR-CALNAME:Radarpag
X-ORIGINAL-URL:https://teste-r2s2.tech/radarpag
X-WR-CALDESC:Eventos para Radarpag
BEGIN:VTIMEZONE
TZID:America/Sao_Paulo
BEGIN:STANDARD
TZOFFSETFROM:-0300
TZOFFSETTO:-0300
TZNAME:-03
DTSTART:20200101T000000
END:STANDARD
END:VTIMEZONE
BEGIN:VEVENT
DTSTART;TZID=America/Sao_Paulo:20201202T190000
DTEND;TZID=America/Sao_Paulo:20201202T200000
DTSTAMP:20260421T180257
CREATED:20201130T200011Z
LAST-MODIFIED:20201130T204332Z
UID:542-1606935600-1606939200@teste-r2s2.tech
SUMMARY:Live - Desafios de Analytics em Cloud
DESCRIPTION:
URL:https://teste-r2s2.tech/radarpag/evento/live-desafios-de-analytics-em-cloud/
LOCATION:Online\, Brazil
CATEGORIES:Destaques
ATTACH;FMTTYPE=image/jpeg:https://teste-r2s2.tech/radarpag/wp-content/uploads/2020/11/itau_unibanco_021220.jpg
END:VEVENT
END:VCALENDAR