BEGIN:VCALENDAR
VERSION:2.0
PRODID:-//Radarpag - ECPv5.2.1.1//NONSGML v1.0//EN
CALSCALE:GREGORIAN
METHOD:PUBLISH
X-WR-CALNAME:Radarpag
X-ORIGINAL-URL:https://teste-r2s2.tech/radarpag
X-WR-CALDESC:Eventos para Radarpag
BEGIN:VTIMEZONE
TZID:America/Sao_Paulo
BEGIN:STANDARD
TZOFFSETFROM:-0300
TZOFFSETTO:-0300
TZNAME:-03
DTSTART:20200101T000000
END:STANDARD
END:VTIMEZONE
BEGIN:VEVENT
DTSTART;TZID=America/Sao_Paulo:20201125T190000
DTEND;TZID=America/Sao_Paulo:20201125T200000
DTSTAMP:20260421T212405
CREATED:20201125T185515Z
LAST-MODIFIED:20201125T185515Z
UID:438-1606330800-1606334400@teste-r2s2.tech
SUMMARY:Live - Responsabilidade no uso de dados
DESCRIPTION:
URL:https://teste-r2s2.tech/radarpag/evento/live-responsabilidade-no-uso-de-dados/
LOCATION:Online\, Brazil
ATTACH;FMTTYPE=image/jpeg:https://teste-r2s2.tech/radarpag/wp-content/uploads/2020/11/itau_unibanco_251120.jpg
END:VEVENT
END:VCALENDAR