BEGIN:VCALENDAR
VERSION:2.0
PRODID:-//Radarpag - ECPv5.2.1.1//NONSGML v1.0//EN
CALSCALE:GREGORIAN
METHOD:PUBLISH
X-WR-CALNAME:Radarpag
X-ORIGINAL-URL:https://teste-r2s2.tech/radarpag
X-WR-CALDESC:Eventos para Radarpag
BEGIN:VTIMEZONE
TZID:America/Sao_Paulo
BEGIN:STANDARD
TZOFFSETFROM:-0300
TZOFFSETTO:-0300
TZNAME:-03
DTSTART:20210101T000000
END:STANDARD
END:VTIMEZONE
BEGIN:VEVENT
DTSTART;TZID=America/Sao_Paulo:20210119T104500
DTEND;TZID=America/Sao_Paulo:20210119T114500
DTSTAMP:20260421T072607
CREATED:20210104T230323Z
LAST-MODIFIED:20210104T230434Z
UID:1405-1611053100-1611056700@teste-r2s2.tech
SUMMARY:Open Banking Year Summit
DESCRIPTION:
URL:https://teste-r2s2.tech/radarpag/evento/open-banking-year-summit/
LOCATION:Online\, Brazil
ATTACH;FMTTYPE=image/jpeg:https://teste-r2s2.tech/radarpag/wp-content/uploads/2021/01/cm_software_190121.jpg
END:VEVENT
END:VCALENDAR