BEGIN:VCALENDAR
VERSION:2.0
PRODID:-//Radarpag - ECPv5.2.1.1//NONSGML v1.0//EN
CALSCALE:GREGORIAN
METHOD:PUBLISH
X-WR-CALNAME:Radarpag
X-ORIGINAL-URL:https://teste-r2s2.tech/radarpag
X-WR-CALDESC:Eventos para Radarpag
BEGIN:VTIMEZONE
TZID:America/Sao_Paulo
BEGIN:STANDARD
TZOFFSETFROM:-0300
TZOFFSETTO:-0300
TZNAME:-03
DTSTART:20200101T000000
END:STANDARD
END:VTIMEZONE
BEGIN:VEVENT
DTSTART;TZID=America/Sao_Paulo:20201130T193000
DTEND;TZID=America/Sao_Paulo:20201130T193000
DTSTAMP:20260421T195420
CREATED:20201125T204913Z
LAST-MODIFIED:20201130T211752Z
UID:447-1606764600-1606764600@teste-r2s2.tech
SUMMARY:Payments 4.0: As forças que estão transformando o mercado brasileiro
DESCRIPTION:
URL:https://teste-r2s2.tech/radarpag/evento/payments-4-0-as-forcas-que-estao-transformando-o-mercado-brasileiro/
LOCATION:Online\, Brazil
CATEGORIES:Destaques
END:VEVENT
END:VCALENDAR