BEGIN:VCALENDAR
VERSION:2.0
PRODID:-//Radarpag - ECPv5.2.1.1//NONSGML v1.0//EN
CALSCALE:GREGORIAN
METHOD:PUBLISH
X-WR-CALNAME:Radarpag
X-ORIGINAL-URL:https://teste-r2s2.tech/radarpag
X-WR-CALDESC:Eventos para Radarpag
BEGIN:VTIMEZONE
TZID:America/Sao_Paulo
BEGIN:STANDARD
TZOFFSETFROM:-0300
TZOFFSETTO:-0300
TZNAME:-03
DTSTART:20200101T000000
END:STANDARD
END:VTIMEZONE
BEGIN:VEVENT
DTSTART;TZID=America/Sao_Paulo:20201215T110000
DTEND;TZID=America/Sao_Paulo:20201215T120000
DTSTAMP:20260421T143118
CREATED:20201211T001652Z
LAST-MODIFIED:20201211T001652Z
UID:873-1608030000-1608033600@teste-r2s2.tech
SUMMARY:SCTVM e SDTVM no PIX e a Resolução CMN 4.871
DESCRIPTION:
URL:https://teste-r2s2.tech/radarpag/evento/sctvm-e-sdtvm-no-pix-e-a-resolucao-cmn-4-871/
LOCATION:Online\, Brazil
ATTACH;FMTTYPE=image/jpeg:https://teste-r2s2.tech/radarpag/wp-content/uploads/2020/12/cm_151220.jpg
END:VEVENT
END:VCALENDAR