BEGIN:VCALENDAR
VERSION:2.0
PRODID:-//Radarpag - ECPv5.2.1.1//NONSGML v1.0//EN
CALSCALE:GREGORIAN
METHOD:PUBLISH
X-WR-CALNAME:Radarpag
X-ORIGINAL-URL:https://teste-r2s2.tech/radarpag
X-WR-CALDESC:Eventos para Radarpag
BEGIN:VTIMEZONE
TZID:America/Sao_Paulo
BEGIN:STANDARD
TZOFFSETFROM:-0300
TZOFFSETTO:-0300
TZNAME:-03
DTSTART:20200101T000000
END:STANDARD
END:VTIMEZONE
BEGIN:VEVENT
DTSTART;TZID=America/Sao_Paulo:20201203T100000
DTEND;TZID=America/Sao_Paulo:20201203T110000
DTSTAMP:20260421T200042
CREATED:20201125T185634Z
LAST-MODIFIED:20201125T185634Z
UID:439-1606989600-1606993200@teste-r2s2.tech
SUMMARY:Webinar: Tendências de Open Banking\, Segurança e Cloud na América Latina
DESCRIPTION:
URL:https://teste-r2s2.tech/radarpag/evento/webinar-tendencias-de-open-banking-seguranca-e-cloud-na-america-latina/
LOCATION:Online\, Brazil
ATTACH;FMTTYPE=image/jpeg:https://teste-r2s2.tech/radarpag/wp-content/uploads/2020/11/unisys_031220.jpg
END:VEVENT
END:VCALENDAR